BEGIN:VCALENDAR
VERSION:2.0
PRODID:-//ChamberMaster//Event Calendar 2.0//EN
METHOD:PUBLISH
X-PUBLISHED-TTL:P3D
REFRESH-INTERVAL:P3D
CALSCALE:GREGORIAN
BEGIN:VEVENT
DTSTART:20230429T150000Z
DTEND:20230429T200000Z
X-MICROSOFT-CDO-ALLDAYEVENT:FALSE
SUMMARY:Craft-n-Store Open Hours
DESCRIPTION:Craft-n-Store open
X-ALT-DESC;FMTTYPE=text/html:Craft-n-Store open
LOCATION:150 Michigan Street SE
UID:e.42.34502
SEQUENCE:3
DTSTAMP:20260426T022625Z
URL:https://business.explorehutchinson.com/events/details/craft-n-store-open-hours-04-29-2023-34502
END:VEVENT

END:VCALENDAR
