BEGIN:VCALENDAR
VERSION:2.0
PRODID:-//ChamberMaster//Event Calendar 2.0//EN
METHOD:PUBLISH
X-PUBLISHED-TTL:P3D
REFRESH-INTERVAL:P3D
CALSCALE:GREGORIAN
BEGIN:VEVENT
DTSTART:20220611T150000Z
DTEND:20220611T200000Z
X-MICROSOFT-CDO-ALLDAYEVENT:FALSE
SUMMARY:Craft-n-Store Open Hours
DESCRIPTION:Crat-n-Store
X-ALT-DESC;FMTTYPE=text/html:Crat-n-Store&nbsp\;
LOCATION:150 Michigan St SE
UID:e.42.31793
SEQUENCE:3
DTSTAMP:20260425T110646Z
URL:https://business.explorehutchinson.com/events/details/craft-n-store-open-hours-06-11-2022-31793
END:VEVENT

END:VCALENDAR
