BEGIN:VCALENDAR
VERSION:2.0
PRODID:-//ChamberMaster//Event Calendar 2.0//EN
METHOD:PUBLISH
X-PUBLISHED-TTL:P3D
REFRESH-INTERVAL:P3D
CALSCALE:GREGORIAN
BEGIN:VEVENT
DTSTART:20230506T213000Z
DTEND:20230507T013000Z
X-MICROSOFT-CDO-ALLDAYEVENT:FALSE
SUMMARY:Crow River Habitat for Humanity Derby Gala
DESCRIPTION:Get out those fancy hats and seersucker suits as we party in Derby style! Our annual Hammer and Nails Gala is Kentucky Derby themed\, complete with mint juleps and watching the Derby together! Join us at the Crow River Winery for dinner\, the race\, and more. Purchase your tickets online at /www.crhfh.org/hammer-and-nails/ or in person at our offices- 1020 Hwy 7 W in Hutchinson.
X-ALT-DESC;FMTTYPE=text/html:Get out those fancy hats and seersucker suits as we party in Derby style! Our annual Hammer and Nails Gala is Kentucky Derby themed\, complete with mint juleps and watching the Derby together! Join us at the Crow River Winery for dinner\, the race\, and more. Purchase your tickets online at&nbsp\;<a href="/www.crhfh.org/hammer-and-nails/">/www.crhfh.org/hammer-and-nails/</a>&nbsp\;or in person at our offices- 1020 Hwy 7 W in Hutchinson.&nbsp\;
LOCATION:Crow River Winery\, Hutchinson MN
UID:e.42.34447
SEQUENCE:3
DTSTAMP:20260426T035416Z
URL:https://business.explorehutchinson.com/events/details/crow-river-habitat-for-humanity-derby-gala-34447
END:VEVENT

END:VCALENDAR
