BEGIN:VCALENDAR
VERSION:2.0
PRODID:-//ChamberMaster//Event Calendar 2.0//EN
METHOD:PUBLISH
X-PUBLISHED-TTL:P3D
REFRESH-INTERVAL:P3D
CALSCALE:GREGORIAN
BEGIN:VEVENT
DTSTART:20230225T150000Z
DTEND:20230225T163000Z
X-MICROSOFT-CDO-ALLDAYEVENT:FALSE
SUMMARY:Cups and Conversation
DESCRIPTION:Bring a Friend and Your Coffee Cup to enjoy fellowship and speaker Cindy Bucholz from the Bittersweet Barn Quilt Company in Hutchinson share her interest in Barn Quilts. Hosted by Our Savior's Lutheran Church Health Ministry.
X-ALT-DESC;FMTTYPE=text/html:Bring a Friend and Your Coffee Cup to enjoy fellowship and speaker Cindy Bucholz from the Bittersweet Barn Quilt Company in Hutchinson share her interest in Barn Quilts. Hosted by Our Savior&#39\;s Lutheran Church Health Ministry.
LOCATION:Our Savior's Lutheran Church 800 Bluff Street NE Hutchinson\, MN Enter via the North Door
UID:e.42.33653
SEQUENCE:3
DTSTAMP:20260425T232454Z
URL:https://business.explorehutchinson.com/events/details/cups-and-conversation-02-25-2023-33653
END:VEVENT

END:VCALENDAR
