BEGIN:VCALENDAR
VERSION:2.0
PRODID:-//ChamberMaster//Event Calendar 2.0//EN
METHOD:PUBLISH
X-PUBLISHED-TTL:P3D
REFRESH-INTERVAL:P3D
CALSCALE:GREGORIAN
BEGIN:VEVENT
DTSTART:20260502T140000Z
DTEND:20260502T153000Z
X-MICROSOFT-CDO-ALLDAYEVENT:FALSE
SUMMARY:Cups and Conversation
DESCRIPTION:Bring a coffee cup and a friend to join in coffee\, fellowship\, and information sharing. Our speaker will be Melissa Wentzel who is a Program Developer with the Minnesota River Area Agency on Aging who will be presenting "Dementia Friends" which is an information session that changes the way people think\, act\, and talk about dementia. The program is designed to help everyone understand what dementia is and how it affects people and how each of us can make a difference for people touched by dementia.
X-ALT-DESC;FMTTYPE=text/html:Bring a coffee cup and a friend to join in coffee\, fellowship\, and information sharing. Our speaker will be Melissa Wentzel who is a Program Developer with the Minnesota River Area Agency on Aging who will be presenting &quot\;Dementia Friends&quot\; which is an information session that changes the way people think\, act\, and talk about dementia. The program is designed to help everyone understand what dementia is and how it affects people and how each of us can make a difference for people touched by dementia.
LOCATION:Our Savior's Lutheran Church 800 Bluff Street NE Hutchinson\, MN 55350
UID:e.42.41546
SEQUENCE:3
DTSTAMP:20260421T164631Z
URL:https://business.explorehutchinson.com/events/details/cups-and-conversation-05-02-2026-41546
END:VEVENT

END:VCALENDAR
