BEGIN:VCALENDAR
VERSION:2.0
PRODID:-//ChamberMaster//Event Calendar 2.0//EN
METHOD:PUBLISH
X-PUBLISHED-TTL:P3D
REFRESH-INTERVAL:P3D
CALSCALE:GREGORIAN
BEGIN:VEVENT
DTSTART:20230218T230000Z
DTEND:20230219T003000Z
X-MICROSOFT-CDO-ALLDAYEVENT:FALSE
SUMMARY:Date Night : Clay Ring Dish
DESCRIPTION:Celebrate love with some creativity! Grab your partner\, friend\, or family member or come alone and meet someone new! In this class\, students will learn basic hand building techniques to create a small dish for rings\, trinkets\, or anything your heart desires. Decorate your dish with underglaze\, carving\, stamps\, and more. Students will be able to pick up their glazed and fired piece after the class.\n\n\n\nAges 16+\n\n$20 member / $25 non-member
X-ALT-DESC;FMTTYPE=text/html:Celebrate love with some creativity! Grab your partner\, friend\, or family member or come alone and meet someone new! In this class\, students will learn basic hand building techniques to create a small dish for rings\, trinkets\, or anything your heart desires. Decorate your dish with underglaze\, carving\, stamps\, and more. Students will be able to pick up their glazed and fired piece after the class.<br />\n<br />\nAges 16+<br />\n$20 member / $25 non-member
LOCATION:Hutchinson Center for the Arts 15 Franklin St SW
UID:e.42.33371
SEQUENCE:3
DTSTAMP:20260425T215646Z
URL:https://business.explorehutchinson.com/events/details/date-night-clay-ring-dish-33371
END:VEVENT

END:VCALENDAR
