BEGIN:VCALENDAR
VERSION:2.0
PRODID:-//ChamberMaster//Event Calendar 2.0//EN
METHOD:PUBLISH
X-PUBLISHED-TTL:P3D
REFRESH-INTERVAL:P3D
CALSCALE:GREGORIAN
BEGIN:VEVENT
DTSTART:20260210T180000Z
DTEND:20260210T210000Z
X-MICROSOFT-CDO-ALLDAYEVENT:FALSE
SUMMARY:Dominion Cares welcomes you to Homecare Reimagined
DESCRIPTION:We are extremely excited to invite the Hutchinson and surrounding communities to gather with us at our open house on Tuesday February 10th from noon to 3PM! While we are looking forward to celebrate the future of homecare and would love your company. Come and enjoy some light snacks\, a tour of our facilities\, staff recondition and a brief presentation on the future of Homecare Reimagine. We hope to see you there!!
X-ALT-DESC;FMTTYPE=text/html:We are extremely excited to invite the Hutchinson and surrounding communities to gather with us at our open house on Tuesday February 10th from noon to 3PM! While we are looking forward to celebrate the future of homecare and would love your company. Come and enjoy some light snacks\, a tour of our facilities\, staff recondition and a brief presentation on the future of Homecare Reimagine. We hope to see you there!!
LOCATION:555 3rd Ave NW Hutchinson MN 55350
UID:e.42.38732
SEQUENCE:3
DTSTAMP:20260421T115523Z
URL:https://business.explorehutchinson.com/events/details/dominion-cares-welcomes-you-to-homecare-reimagined-38732
END:VEVENT

END:VCALENDAR
