BEGIN:VCALENDAR
VERSION:2.0
PRODID:-//ChamberMaster//Event Calendar 2.0//EN
METHOD:PUBLISH
X-PUBLISHED-TTL:P3D
REFRESH-INTERVAL:P3D
CALSCALE:GREGORIAN
BEGIN:VEVENT
DTSTART:20260309T160000Z
DTEND:20260310T040000Z
X-MICROSOFT-CDO-ALLDAYEVENT:FALSE
SUMMARY:Eat Wing Raise Funds for BLHS After Prom
DESCRIPTION:MENTION THIS POST for Dine in or Takeout at Buffalo Wild Wings Hutchinson on Monday March 9th to support the Buffalo Lake Hector Stewart After Prom Committee. \n\n\n\n15% of your purchase goes directly back to the organization!
X-ALT-DESC;FMTTYPE=text/html:MENTION THIS POST for Dine in or Takeout at Buffalo Wild Wings Hutchinson on Monday March 9th to support the Buffalo Lake Hector Stewart After Prom Committee.&nbsp\;<br />\n<br />\n15% of your purchase goes directly back to the organization!&nbsp\;
LOCATION:1040 Hwy 15 South Hutchinson\, MN
UID:e.42.41472
SEQUENCE:3
DTSTAMP:20260421T151206Z
URL:https://business.explorehutchinson.com/events/details/eat-wing-raise-funds-for-blhs-after-prom-41472
END:VEVENT

END:VCALENDAR
