BEGIN:VCALENDAR
VERSION:2.0
PRODID:-//ChamberMaster//Event Calendar 2.0//EN
METHOD:PUBLISH
X-PUBLISHED-TTL:P3D
REFRESH-INTERVAL:P3D
CALSCALE:GREGORIAN
BEGIN:VEVENT
DTSTART:20230209T003000Z
DTEND:20230209T013000Z
X-MICROSOFT-CDO-ALLDAYEVENT:FALSE
SUMMARY:Education Careers Information Session
DESCRIPTION:Learn about the new and expanded education options. Early Childhood Education Certificate Early Childhood Education Transfer Pathway AS Degree Early Childhood Special Education Certificate Education Foundations Certificate Elementary Education Foundations Transfer Pathway AS Degree Special Education Transfer Pathway AS Degree
X-ALT-DESC;FMTTYPE=text/html:Learn about the new and expanded education options. Early Childhood Education Certificate Early Childhood Education Transfer Pathway AS Degree Early Childhood Special Education Certificate Education Foundations Certificate Elementary Education Foundations Transfer Pathway AS Degree Special Education Transfer Pathway AS Degree
LOCATION:Virtual on Zoom
UID:e.42.33619
SEQUENCE:3
DTSTAMP:20260425T215645Z
URL:https://business.explorehutchinson.com/events/details/education-careers-information-session-33619
END:VEVENT

END:VCALENDAR
