BEGIN:VCALENDAR
VERSION:2.0
PRODID:-//ChamberMaster//Event Calendar 2.0//EN
METHOD:PUBLISH
X-PUBLISHED-TTL:P3D
REFRESH-INTERVAL:P3D
CALSCALE:GREGORIAN
BEGIN:VEVENT
DTSTART:20220924T130000Z
DTEND:20220925T200000Z
X-MICROSOFT-CDO-ALLDAYEVENT:FALSE
SUMMARY:Elks 41st Annual Gun Show- Knives and Coins
DESCRIPTION:Elks 41st Annual Gun\, Knife & Coin show\n\nSaturday 8am-5pm & Sunday 9am-3pm\n\n370 Tables\n\nBuy-Sell-Trade-Look\n\nFREE parking\n\nFood available\, grilled on site by the Hutchinson Elks Club Members\n\n\n\n**All Federal\, State and Local firearm laws and ordinances must be followed!
X-ALT-DESC;FMTTYPE=text/html:<p>Elks 41st Annual Gun\, Knife &amp\; Coin show<br />\nSaturday 8am-5pm &amp\; Sunday 9am-3pm<br />\n370 Tables<br />\nBuy-Sell-Trade-Look<br />\nFREE parking<br />\nFood available\, grilled on site by the Hutchinson Elks Club Members<br />\n<br />\n**All Federal\, State and Local firearm laws and ordinances must be followed!<br />\n&nbsp\;</p>\n
LOCATION:McLeod County Fairgrounds 840 Century Ave SW Hutchinson\, MN 55350
UID:e.42.33293
SEQUENCE:3
DTSTAMP:20260425T152120Z
URL:https://business.explorehutchinson.com/events/details/elks-41st-annual-gun-show-knives-and-coins-33293
END:VEVENT

END:VCALENDAR
