BEGIN:VCALENDAR
VERSION:2.0
PRODID:-//ChamberMaster//Event Calendar 2.0//EN
METHOD:PUBLISH
X-PUBLISHED-TTL:P3D
REFRESH-INTERVAL:P3D
CALSCALE:GREGORIAN
BEGIN:VEVENT
DTSTART:20230318T220000Z
DTEND:20230319T010000Z
X-MICROSOFT-CDO-ALLDAYEVENT:FALSE
SUMMARY:Elks Shrimp Boil
DESCRIPTION:Elks Annual Shrimp Boil -- shrimp/sausasge/potato/corn/onions garlic toast **Until 8 pm unless we run out of food**
X-ALT-DESC;FMTTYPE=text/html:Elks Annual Shrimp Boil -- shrimp/sausasge/potato/corn/onions garlic toast **Until 8 pm unless we run out of food**
LOCATION:720 Hwy 7 E
UID:e.42.34457
SEQUENCE:3
DTSTAMP:20260419T161852Z
URL:https://business.explorehutchinson.com/events/details/elks-shrimp-boil-34457
END:VEVENT

END:VCALENDAR
