BEGIN:VCALENDAR
VERSION:2.0
PRODID:-//ChamberMaster//Event Calendar 2.0//EN
METHOD:PUBLISH
X-PUBLISHED-TTL:P3D
REFRESH-INTERVAL:P3D
CALSCALE:GREGORIAN
BEGIN:VEVENT
DTSTART:20260228T170000Z
DTEND:20260228T183000Z
X-MICROSOFT-CDO-ALLDAYEVENT:FALSE
SUMMARY:Elks Veterans Appreciation Luncheon
DESCRIPTION:Elks Free Veterans Appreciation Luncheon. IT is free to our Vets and immediate family members. Menu for February: Lasagna\, Caesar Salad\, Garlic Bread\, Dessert\, Milk\, Water and Coffee
X-ALT-DESC;FMTTYPE=text/html:Elks Free Veterans Appreciation Luncheon. IT is free to our Vets and immediate family members. Menu for February: Lasagna\, Caesar Salad\, Garlic Bread\, Dessert\, Milk\, Water and Coffee
LOCATION:Hutchinson Elks Lodge #2427 - 720 HWY 7 East\, Hutchinson
UID:e.42.38765
SEQUENCE:3
DTSTAMP:20260421T115408Z
URL:https://business.explorehutchinson.com/events/details/elks-veterans-appreciation-luncheon-02-28-2026-38765
END:VEVENT

END:VCALENDAR
