BEGIN:VCALENDAR
VERSION:2.0
PRODID:-//ChamberMaster//Event Calendar 2.0//EN
METHOD:PUBLISH
X-PUBLISHED-TTL:P3D
REFRESH-INTERVAL:P3D
CALSCALE:GREGORIAN
BEGIN:VEVENT
DTSTART:20230217T210000Z
DTEND:20230218T010000Z
X-MICROSOFT-CDO-ALLDAYEVENT:FALSE
SUMMARY:Empty Bowls Make-A-Thon
DESCRIPTION:Stop by the Hutchinson Center for the Arts for a day of making clay bowls for a cause!\n\n \n\nEmpty Bowls is a grassroots movement by artists and crafts people in cities and towns around the world to raise money for food related charities to care for and feed the hungry in their communities.\n\n \n\nThis year\, Hutchinson's Empty Bowls event will be held at Hutchinson High School on March 18th from 11-1pm.\n\n \n\nAll bowls made during the HCA make-a-thon will be glazed and donated to this event to help raise money for our local food shelves.\n\n \n\nNo registration required\, just show up and stay as long as you'd like!
X-ALT-DESC;FMTTYPE=text/html:<div>Stop by the Hutchinson Center for the Arts for a day of making clay bowls for a cause!</div>\n\n<div>&nbsp\;</div>\n\n<div>Empty Bowls is a grassroots movement by artists and crafts people in cities and towns around the world to raise money for food related charities to care for and feed the hungry in their communities.</div>\n\n<div>&nbsp\;</div>\n\n<div>This year\, Hutchinson&#39\;s Empty Bowls event will be held at Hutchinson High School on March 18th from 11-1pm.</div>\n\n<div>&nbsp\;</div>\n\n<div>All bowls made during the HCA make-a-thon will be glazed and donated to this event to help raise money for our local food shelves.</div>\n\n<div>&nbsp\;</div>\n\n<div>No registration required\, just show up and stay as long as you&#39\;d like!&nbsp\;</div>\n
LOCATION:Hutchinson Center for the Arts 15 Franklin St SW
UID:e.42.33658
SEQUENCE:3
DTSTAMP:20260425T215646Z
URL:https://business.explorehutchinson.com/events/details/empty-bowls-make-a-thon-33658
END:VEVENT

END:VCALENDAR
