BEGIN:VCALENDAR
VERSION:2.0
PRODID:-//ChamberMaster//Event Calendar 2.0//EN
METHOD:PUBLISH
X-PUBLISHED-TTL:P3D
REFRESH-INTERVAL:P3D
CALSCALE:GREGORIAN
BEGIN:VEVENT
DTSTART:20230527T153000Z
DTEND:20230527T170000Z
X-MICROSOFT-CDO-ALLDAYEVENT:FALSE
SUMMARY:Explore Painting With Textures for ages 5-9
DESCRIPTION:Put away the brushes and explore painting with texture! Learn how different textured items work as paintbrushes. This dynamic class will allow students to create a variety of textures and effects. Students will be guided through the use of materials and given time to explore on their own. All materials are provided. This class is for kids ages 5-9.
X-ALT-DESC;FMTTYPE=text/html:Put away the brushes and explore painting with texture! Learn how different textured items work as paintbrushes. This dynamic class will allow students to create a variety of textures and effects. Students will be guided through the use of materials and given time to explore on their own. All materials are provided. This class is for kids ages 5-9.&nbsp\;
LOCATION:Hutchinson Center for the Arts 15 Franklin St SW
UID:e.42.34520
SEQUENCE:3
DTSTAMP:20260426T022619Z
URL:https://business.explorehutchinson.com/events/details/explore-painting-with-textures-for-ages-5-9-34520
END:VEVENT

END:VCALENDAR
