BEGIN:VCALENDAR
VERSION:2.0
PRODID:-//ChamberMaster//Event Calendar 2.0//EN
METHOD:PUBLISH
X-PUBLISHED-TTL:P3D
REFRESH-INTERVAL:P3D
CALSCALE:GREGORIAN
BEGIN:VEVENT
DTSTART:20190908T160000Z
DTEND:20190908T180000Z
X-MICROSOFT-CDO-ALLDAYEVENT:FALSE
SUMMARY:Fall Extravaganza
DESCRIPTION:Join the Faith community as we kick off the fall with good fellowship\, free lunch\, lawn games\, obstacle courses\, bouncy house\, music and more!
X-ALT-DESC;FMTTYPE=text/html:Join the Faith community as we kick off the fall with good fellowship\, free lunch\, lawn games\, obstacle courses\, bouncy house\, music and more!
LOCATION:Faith Lutheran Church
UID:e.42.28426
SEQUENCE:3
DTSTAMP:20260423T070314Z
URL:https://business.explorehutchinson.com/events/details/fall-extravaganza-09-08-2019-28426
END:VEVENT

END:VCALENDAR
