BEGIN:VCALENDAR
VERSION:2.0
PRODID:-//ChamberMaster//Event Calendar 2.0//EN
METHOD:PUBLISH
X-PUBLISHED-TTL:P3D
REFRESH-INTERVAL:P3D
CALSCALE:GREGORIAN
BEGIN:VEVENT
DTSTART:20181014T210000Z
DTEND:20181015T020000Z
X-MICROSOFT-CDO-ALLDAYEVENT:FALSE
SUMMARY:Family Nights At Buffalo Wild Wings
DESCRIPTION:Family Night at Buffalo Wild Wings in Hutchinson every Sunday night from 4-9pm. $1.99 Kids Meals & More!
X-ALT-DESC;FMTTYPE=text/html:Family Night at Buffalo Wild Wings in Hutchinson every Sunday night from 4-9pm. $1.99 Kids Meals &amp\; More!
LOCATION:1040 Hwy 15 South
UID:e.42.18958
SEQUENCE:3
DTSTAMP:20260422T123725Z
URL:https://business.explorehutchinson.com/events/details/family-nights-at-buffalo-wild-wings-10-14-2018-18958
END:VEVENT

END:VCALENDAR
