BEGIN:VCALENDAR
VERSION:2.0
PRODID:-//ChamberMaster//Event Calendar 2.0//EN
METHOD:PUBLISH
X-PUBLISHED-TTL:P3D
REFRESH-INTERVAL:P3D
CALSCALE:GREGORIAN
BEGIN:VEVENT
DTSTART:20260318T163000Z
DTEND:20260318T180000Z
X-MICROSOFT-CDO-ALLDAYEVENT:FALSE
SUMMARY:Form I9 Webinar
DESCRIPTION:Join Vinna Human Resources for an informative guide on completing the Federal Form I9. \n\nForm I9 Fundamentals\n\nCompleting the Form\n\nCorrecting the Form\n\nResponsibilities\n\nDocument Storage\n\nFAQs with Q&A
X-ALT-DESC;FMTTYPE=text/html:Join Vinna Human Resources for an informative guide on completing the Federal Form I9.&nbsp\;<br />\nForm I9 Fundamentals<br />\nCompleting the Form<br />\nCorrecting the Form<br />\nResponsibilities<br />\nDocument Storage<br />\nFAQs with Q&amp\;A
LOCATION:From the comfort of your own office.
UID:e.42.41444
SEQUENCE:3
DTSTAMP:20260421T145637Z
URL:https://business.explorehutchinson.com/events/details/form-i9-webinar-41444
END:VEVENT

END:VCALENDAR
