BEGIN:VCALENDAR
VERSION:2.0
PRODID:-//ChamberMaster//Event Calendar 2.0//EN
METHOD:PUBLISH
X-PUBLISHED-TTL:P3D
REFRESH-INTERVAL:P3D
CALSCALE:GREGORIAN
BEGIN:VEVENT
DTSTART:20210726T233000Z
DTEND:20210727T010000Z
X-MICROSOFT-CDO-ALLDAYEVENT:FALSE
SUMMARY:Friends of Oakland Cemetery Work Session
DESCRIPTION:Join us as we clean\, improve\, and preserve the historical memorial stones in Oakland Cemetery. Even if you can't do the physical work\, please join us and share your stories and memories.
X-ALT-DESC;FMTTYPE=text/html:Join us as we clean\, improve\, and preserve the historical memorial stones in Oakland Cemetery. Even if you can&#39\;t do the physical work\, please join us and share your stories and memories.
LOCATION:Oakland Cemetery Office
UID:e.42.30282
SEQUENCE:3
DTSTAMP:20260424T160515Z
URL:https://business.explorehutchinson.com/events/details/friends-of-oakland-cemetery-work-session-30282
END:VEVENT

END:VCALENDAR
