BEGIN:VCALENDAR
VERSION:2.0
PRODID:-//ChamberMaster//Event Calendar 2.0//EN
METHOD:PUBLISH
X-PUBLISHED-TTL:P3D
REFRESH-INTERVAL:P3D
CALSCALE:GREGORIAN
BEGIN:VEVENT
DTSTART:20230601T150000Z
DTEND:20230601T220000Z
X-MICROSOFT-CDO-ALLDAYEVENT:FALSE
SUMMARY:Gallery Exhibition: Envisioning the Landscape
DESCRIPTION:Envisioning the Landscape by Mary Opatz Herges and Tomas Alvarez is on view at the Hutchinson Center for the Arts. Mary is an abstract landscape painter that works with oil on canvas. Tomas is a digital landscape photographer. View their art and perspectives on the landscapes around us.
X-ALT-DESC;FMTTYPE=text/html:Envisioning the Landscape by Mary Opatz Herges and Tomas Alvarez is on view at the Hutchinson Center for the Arts. Mary is an abstract landscape painter that works with oil on canvas. Tomas is a digital landscape photographer. View their art and perspectives on the landscapes around us.&nbsp\;
LOCATION:Hutchinson Center for the Arts 15 Franklin St SW
UID:e.42.34605
SEQUENCE:3
DTSTAMP:20260426T040046Z
URL:https://business.explorehutchinson.com/events/details/gallery-exhibition-envisioning-the-landscape-06-01-2023-34605
END:VEVENT

END:VCALENDAR
