BEGIN:VCALENDAR
VERSION:2.0
PRODID:-//ChamberMaster//Event Calendar 2.0//EN
METHOD:PUBLISH
X-PUBLISHED-TTL:P3D
REFRESH-INTERVAL:P3D
CALSCALE:GREGORIAN
BEGIN:VEVENT
DTSTART:20230622T150000Z
DTEND:20230622T220000Z
X-MICROSOFT-CDO-ALLDAYEVENT:FALSE
SUMMARY:Gallery Exhibition: The Shouted Secrets of Feathers and Fur
DESCRIPTION:View the work of mixed media sculptor Layl McDill.  She creates multilayered works by combining large found objects\, small found objects\, and slices of polymer clay designs. Experience the colors\, textures\, and hidden imagery in her work.\n\n\n\nThe Shouted Secrets of Feathers and Fur explores the use of stories to make sense of the world\, and how art and science intersect to teach us about human interactions with the environment to make positive change.
X-ALT-DESC;FMTTYPE=text/html:View the work of mixed media sculptor Layl McDill.&nbsp\; She creates multilayered works by combining large found objects\, small found objects\, and slices of polymer clay designs.&nbsp\;<span style="background-color:rgb(255\, 255\, 255)\; color:rgb(51\, 51\, 51)\; font-family:sans-serif\,arial\,verdana\,trebuchet ms\; font-size:13px">Experience the colors\, textures\, and hidden imagery in her work.</span><br />\n<br />\nThe Shouted Secrets of Feathers and Fur explores the use of stories to make sense of the world\, and how art and science intersect to teach us about human interactions with the environment to make positive change.
LOCATION:Hutchinson Center for the Arts 15 Franklin St SW Hutchinson\, MN
UID:e.42.34854
SEQUENCE:3
DTSTAMP:20260426T035806Z
URL:https://business.explorehutchinson.com/events/details/gallery-exhibition-the-shouted-secrets-of-feathers-and-fur-06-22-2023-34854
END:VEVENT

END:VCALENDAR
