BEGIN:VCALENDAR
VERSION:2.0
PRODID:-//ChamberMaster//Event Calendar 2.0//EN
METHOD:PUBLISH
X-PUBLISHED-TTL:P3D
REFRESH-INTERVAL:P3D
CALSCALE:GREGORIAN
BEGIN:VEVENT
DTSTART:20230317T130000Z
DTEND:20230407T030000Z
X-MICROSOFT-CDO-ALLDAYEVENT:FALSE
SUMMARY:Gerten's Flower Fundraiser for Vineyard
DESCRIPTION:Go to: Gertensfundraising.com and enter Store Code 200 Get some wonderful flowers and help Vineyard too! Proceeds from 30% of all plant sales and 15% of plant card sales will go toward church missions. **Orders need to be completed by 10 PM on Thursday\, April 6.** NO LATE ORDERS WILL BE ACCEPTED. Your order will be ready for pick up on Thursday\, May 11 after 6 PM at 15161 Page Ave\, Hutchinson. Delivery is available within Hutchinson city limits. Please contact Kelli for delivery details.
X-ALT-DESC;FMTTYPE=text/html:Go to: Gertensfundraising.com and enter Store Code 200 Get some wonderful flowers and help Vineyard too! Proceeds from 30% of all plant sales and 15% of plant card sales will go toward church missions. **Orders need to be completed by 10 PM on Thursday\, April 6.** NO LATE ORDERS WILL BE ACCEPTED. Your order will be ready for pick up on Thursday\, May 11 after 6 PM at 15161 Page Ave\, Hutchinson. Delivery is available within Hutchinson city limits. Please contact Kelli for delivery details.
LOCATION:Online Gerten's Flower Fundraiser for Vineyard! Go to: Gertensfundraising.com and enter Store Code 200
UID:e.42.34494
SEQUENCE:3
DTSTAMP:20260419T162013Z
URL:https://business.explorehutchinson.com/events/details/gerten-s-flower-fundraiser-for-vineyard-34494
END:VEVENT

END:VCALENDAR
