BEGIN:VCALENDAR
VERSION:2.0
PRODID:-//ChamberMaster//Event Calendar 2.0//EN
METHOD:PUBLISH
X-PUBLISHED-TTL:P3D
REFRESH-INTERVAL:P3D
CALSCALE:GREGORIAN
BEGIN:VEVENT
DTSTART:20260126T220000Z
DTEND:20260126T233000Z
X-MICROSOFT-CDO-ALLDAYEVENT:FALSE
SUMMARY:Grief Share
DESCRIPTION:Grief Share support group. Starts January 12th and ends April 6th. Attend one or all sessions each Monday. Topic for this week is "Loneliness & Sadness"
X-ALT-DESC;FMTTYPE=text/html:Grief Share support group. Starts January 12th and ends April 6th. Attend one or all sessions each Monday. Topic for this week is &quot\;Loneliness &amp\; Sadness&quot\;
LOCATION:Peace Lutheran Church 400 Franklin St SW Hutchinson\, MN 55350
UID:e.42.37908
SEQUENCE:3
DTSTAMP:20260421T115232Z
URL:https://business.explorehutchinson.com/events/details/grief-share-01-26-2026-37908
END:VEVENT

END:VCALENDAR
