BEGIN:VCALENDAR
VERSION:2.0
PRODID:-//ChamberMaster//Event Calendar 2.0//EN
METHOD:PUBLISH
X-PUBLISHED-TTL:P3D
REFRESH-INTERVAL:P3D
CALSCALE:GREGORIAN
BEGIN:VEVENT
DTSTART:20260112T220000Z
DTEND:20260112T233000Z
X-MICROSOFT-CDO-ALLDAYEVENT:FALSE
SUMMARY:Grief Share
DESCRIPTION:Grief Share support group weekly topics for 13 weeks. Attend one or all sessions each Monday.
X-ALT-DESC;FMTTYPE=text/html:Grief Share support group weekly topics for 13 weeks. Attend one or all sessions each Monday.
LOCATION:Peace Lutheran 400 Franklin St SW Hutchinson\, MN 55350
UID:e.42.37887
SEQUENCE:3
DTSTAMP:20260421T114924Z
URL:https://business.explorehutchinson.com/events/details/grief-share-37887
END:VEVENT

END:VCALENDAR
