BEGIN:VCALENDAR
VERSION:2.0
PRODID:-//ChamberMaster//Event Calendar 2.0//EN
METHOD:PUBLISH
X-PUBLISHED-TTL:P3D
REFRESH-INTERVAL:P3D
CALSCALE:GREGORIAN
BEGIN:VEVENT
DTSTART:20260506T200000Z
DTEND:20260507T000000Z
X-MICROSOFT-CDO-ALLDAYEVENT:FALSE
SUMMARY:Grow with LOVE Event at Stockmens
DESCRIPTION:Do you love flowers?  Spoil yourself or someone with flowers for Spring.  Every petal or leaf helps a pay.  Celebrate Spring by giving back!!  \n\n\n\nThe Heart of Minnesota Animal Shelter and Stockmens Greenhouse are hosting a GROW with LOVE Event at Stockmen's Greenhouse on May 6 from 3:00-7:00 PM.  \n\n\n\nPick up your Donation Coupon on any of the Locations listed below and present it at the time of purchase\; and HMAS will receive 30% of the sale to support animals in need.  \n\n\n\nCoupons available at:\n\n- Stockmens during the event on May 6th\n\n- HMAS Campus Buildings during Adoption Hours\n\n- HMAS Rummage Sale on April 10th and 11th\n\n\n\nYour Spring purchase feeds a shelter pet in need!
X-ALT-DESC;FMTTYPE=text/html:<span style="color:#0000FF"><strong>Do you love flowers? &nbsp\;Spoil yourself or someone with flowers for Spring. &nbsp\;Every petal or leaf helps a pay. &nbsp\;Celebrate Spring by giving back!! &nbsp\;</strong></span><br />\n<br />\nThe <strong>Heart of Minnesota Animal Shelter</strong> and Stockmens Greenhouse are hosting a GROW with LOVE Event at Stockmen&#39\;s Greenhouse on May 6 from 3:00-7:00 PM. &nbsp\;<br />\n<br />\nPick up your Donation Coupon on any of the Locations listed below and present it at the time of purchase\; and HMAS will receive 30% of the sale to support animals in need. &nbsp\;<br />\n<br />\nCoupons available at:<br />\n- Stockmens during the event on May 6th<br />\n-&nbsp\;HMAS Campus Buildings during Adoption Hours<br />\n- HMAS Rummage Sale on April 10th and 11th<br />\n<br />\n<span style="color:#0000FF"><strong><span style="font-family:-webkit-standard\; font-size:medium">Your Spring purchase feeds a shelter pet in need!</span></strong></span>
LOCATION:Stockmen's Greenhouse in Hutchinson
UID:e.42.41525
SEQUENCE:3
DTSTAMP:20260421T103306Z
URL:https://business.explorehutchinson.com/events/details/grow-with-love-event-at-stockmens-41525
END:VEVENT

END:VCALENDAR
