BEGIN:VCALENDAR
VERSION:2.0
PRODID:-//ChamberMaster//Event Calendar 2.0//EN
METHOD:PUBLISH
X-PUBLISHED-TTL:P3D
REFRESH-INTERVAL:P3D
CALSCALE:GREGORIAN
BEGIN:VEVENT
DTSTART:20230225T230000Z
DTEND:20230226T055500Z
X-MICROSOFT-CDO-ALLDAYEVENT:FALSE
SUMMARY:Half-Way There: A Party for the Fair!
DESCRIPTION:The 2023 McLeod County Fair is only 6 months away! Join us for a fun night at the fair to kick off 2023! This event is FREE ADMISSION and open to ALL AGES. Food and Beverage for sale on site\, Cash only. (ATM will be on grounds) Doors Open at 4:30pm Music by South 40 Band from 5:30 - 8:30pm IV Play from 8:30 - 11:30pm
X-ALT-DESC;FMTTYPE=text/html:The 2023 McLeod County Fair is only 6 months away! Join us for a fun night at the fair to kick off 2023! This event is FREE ADMISSION and open to ALL AGES. Food and Beverage for sale on site\, Cash only. (ATM will be on grounds) Doors Open at 4:30pm Music by South 40 Band from 5:30 - 8:30pm IV Play from 8:30 - 11:30pm
LOCATION:McLeod County Fairgrounds - Commercial Building 840 Century Avenue SW Hutchinson\, MN 55350
UID:e.42.33643
SEQUENCE:3
DTSTAMP:20260425T215753Z
URL:https://business.explorehutchinson.com/events/details/half-way-there-a-party-for-the-fair-33643
END:VEVENT

END:VCALENDAR
