BEGIN:VCALENDAR
VERSION:2.0
PRODID:-//ChamberMaster//Event Calendar 2.0//EN
METHOD:PUBLISH
X-PUBLISHED-TTL:P3D
REFRESH-INTERVAL:P3D
CALSCALE:GREGORIAN
BEGIN:VEVENT
DTSTART:20230321T153000Z
DTEND:20230321T173000Z
X-MICROSOFT-CDO-ALLDAYEVENT:FALSE
SUMMARY:Health Fair & Healthcare Job Fair
DESCRIPTION:Join Ridgewater for our Health Fair & Healthcare Job Fair where you can learn how to live a healthier lifestyle\, find businesses that are hiring in the healthcare fields\, and get free giveaways! Businesses from the area are coming to campus to display information on fitness\, eye care\, dental care\, nursing\, weight loss programs\, and more! Searching for a job in the healthcare field? Several businesses will be seeking qualified candidates. Bring your resume and network with potential employers. Get free samples at vendor booths and enter to win door prizes or a grand prize! Door prizes will be given away every half hour\; grand prize entries will be selected at 12:30 pm. (Need not be present to win.) Seeking Vendors! There is no fee for having a vendor booth\, so if your business or organization would like to have a table at one or both of our Health Fairs\, please sign up using the link below by Monday\, February 27\, 2023: tiny.cc/rchealthfair
X-ALT-DESC;FMTTYPE=text/html:Join Ridgewater for our Health Fair &amp\; Healthcare Job Fair where you can learn how to live a healthier lifestyle\, find businesses that are hiring in the healthcare fields\, and get free giveaways! Businesses from the area are coming to campus to display information on fitness\, eye care\, dental care\, nursing\, weight loss programs\, and more! Searching for a job in the healthcare field? Several businesses will be seeking qualified candidates. Bring your resume and network with potential employers. Get free samples at vendor booths and enter to win door prizes or a grand prize! Door prizes will be given away every half hour\; grand prize entries will be selected at 12:30 pm. (Need not be present to win.) Seeking Vendors! There is no fee for having a vendor booth\, so if your business or organization would like to have a table at one or both of our Health Fairs\, please sign up using the link below by Monday\, February 27\, 2023: tiny.cc/rchealthfair
LOCATION:Ridgewater College Commons (Cafeteria Area) 2 Century Ave SE Hutchinson\, MN 55350
UID:e.42.34305
SEQUENCE:3
DTSTAMP:20260419T162552Z
URL:https://business.explorehutchinson.com/events/details/health-fair-healthcare-job-fair-34305
END:VEVENT

END:VCALENDAR
