BEGIN:VCALENDAR
VERSION:2.0
PRODID:-//ChamberMaster//Event Calendar 2.0//EN
METHOD:PUBLISH
X-PUBLISHED-TTL:P3D
REFRESH-INTERVAL:P3D
CALSCALE:GREGORIAN
BEGIN:VEVENT
DTSTART;VALUE=DATE:20260226
DTEND;VALUE=DATE:20260227
TRANSP:TRANSPARENT
X-MICROSOFT-CDO-ALLDAYEVENT:TRUE
SUMMARY:Home State Bank's 100-year Anniversary Celebration Kick-Off
DESCRIPTION:
X-ALT-DESC;FMTTYPE=text/html:
LOCATION:
UID:e.42.41438
SEQUENCE:3
DTSTAMP:20260421T133012Z
URL:https://business.explorehutchinson.com/events/details/home-state-bank-s-100-year-anniversary-celebration-kick-off-41438
END:VEVENT

END:VCALENDAR
