BEGIN:VCALENDAR
VERSION:2.0
PRODID:-//ChamberMaster//Event Calendar 2.0//EN
METHOD:PUBLISH
X-PUBLISHED-TTL:P3D
REFRESH-INTERVAL:P3D
CALSCALE:GREGORIAN
BEGIN:VEVENT
DTSTART:20230525T003000Z
DTEND:20230525T003000Z
X-MICROSOFT-CDO-ALLDAYEVENT:FALSE
SUMMARY:Huskies Baseball versus Brownton Bruins Books and Baseball
DESCRIPTION:Huskies Amateur Baseball Home game @ VMF\n\nBooks and Baseball Night 530\n\nAll kids and families get in free
X-ALT-DESC;FMTTYPE=text/html:<span style="background-color:rgb(255\, 255\, 255)\; color:rgb(51\, 51\, 51)\; font-family:sans-serif\,arial\,verdana\,trebuchet ms\; font-size:13px">Huskies Amateur Baseball Home game @ VMF<br />\nBooks and Baseball Night 530<br />\nAll kids and families get in free</span>
LOCATION:
UID:e.42.34809
SEQUENCE:3
DTSTAMP:20260426T035307Z
URL:https://business.explorehutchinson.com/events/details/huskies-baseball-versus-brownton-bruins-34809
END:VEVENT

END:VCALENDAR
