BEGIN:VCALENDAR
VERSION:2.0
PRODID:-//ChamberMaster//Event Calendar 2.0//EN
METHOD:PUBLISH
X-PUBLISHED-TTL:P3D
REFRESH-INTERVAL:P3D
CALSCALE:GREGORIAN
BEGIN:VEVENT
DTSTART:20230513T003000Z
DTEND:20230513T003000Z
X-MICROSOFT-CDO-ALLDAYEVENT:FALSE
SUMMARY:Huskies Baseball versus Courtland Cubs
DESCRIPTION:Huskies Amateur Baseball Home game @ VMF
X-ALT-DESC;FMTTYPE=text/html:<span style="background-color:rgb(255\, 255\, 255)\; color:rgb(51\, 51\, 51)\; font-family:sans-serif\,arial\,verdana\,trebuchet ms\; font-size:13px">Huskies Amateur Baseball Home game @ VMF</span>
LOCATION:VMF baseball Field
UID:e.42.34806
SEQUENCE:3
DTSTAMP:20260426T035525Z
URL:https://business.explorehutchinson.com/events/details/huskies-baseball-versus-courtland-cubs-34806
END:VEVENT

END:VCALENDAR
