BEGIN:VCALENDAR
VERSION:2.0
PRODID:-//ChamberMaster//Event Calendar 2.0//EN
METHOD:PUBLISH
X-PUBLISHED-TTL:P3D
REFRESH-INTERVAL:P3D
CALSCALE:GREGORIAN
BEGIN:VEVENT
DTSTART:20230507T190000Z
DTEND:20230507T190000Z
X-MICROSOFT-CDO-ALLDAYEVENT:FALSE
SUMMARY:Huskies Baseball versus Crystal Cowboys
DESCRIPTION:Huskies Amateur Baseball Home game @ VMF
X-ALT-DESC;FMTTYPE=text/html:Huskies Amateur Baseball Home game @ VMF
LOCATION:VMF Baseball Field
UID:e.42.34805
SEQUENCE:3
DTSTAMP:20260426T035403Z
URL:https://business.explorehutchinson.com/events/details/huskies-baseball-versus-crystal-cowboys-34805
END:VEVENT

END:VCALENDAR
