BEGIN:VCALENDAR
VERSION:2.0
PRODID:-//ChamberMaster//Event Calendar 2.0//EN
METHOD:PUBLISH
X-PUBLISHED-TTL:P3D
REFRESH-INTERVAL:P3D
CALSCALE:GREGORIAN
BEGIN:VEVENT
DTSTART:20230617T003000Z
DTEND:20230617T003000Z
X-MICROSOFT-CDO-ALLDAYEVENT:FALSE
SUMMARY:Huskies Baseball versus Rockford - Water Carnival game and Youth Camp
DESCRIPTION:Huskies Amateur Baseball Home game @ VMF\nFree admission with Water Carnival Button.\n\nFree Youth Camps starts at 5p.m.
X-ALT-DESC;FMTTYPE=text/html:<span style="background-color:rgb(255\, 255\, 255)\; color:rgb(51\, 51\, 51)\; font-family:sans-serif\,arial\,verdana\,trebuchet ms\; font-size:13px">Huskies Amateur Baseball Home game @ VMF</span>\n<div><span style="background-color:rgb(255\, 255\, 255)\; color:rgb(51\, 51\, 51)\; font-family:sans-serif\,arial\,verdana\,trebuchet ms\; font-size:13px">Free admission with Water Carnival Button.</span></div>\n\n<div><span style="background-color:rgb(255\, 255\, 255)\; font-size:13px">Free Youth Camps starts at 5p.m.&nbsp\;</span></div>\n
LOCATION:
UID:e.42.34816
SEQUENCE:3
DTSTAMP:20260426T035742Z
URL:https://business.explorehutchinson.com/events/details/huskies-baseball-versus-rockford-water-carnival-game-and-youth-camp-34816
END:VEVENT

END:VCALENDAR
