BEGIN:VCALENDAR
VERSION:2.0
PRODID:-//ChamberMaster//Event Calendar 2.0//EN
METHOD:PUBLISH
X-PUBLISHED-TTL:P3D
REFRESH-INTERVAL:P3D
CALSCALE:GREGORIAN
BEGIN:VEVENT
DTSTART;VALUE=DATE:20211115
DTEND;VALUE=DATE:20211211
TRANSP:TRANSPARENT
X-MICROSOFT-CDO-ALLDAYEVENT:TRUE
SUMMARY:Hutchinson Center for the Arts Fall Fundraiser
DESCRIPTION:We are excited to announce our 2021 Fall Fundraiser for the Hutchinson Center for the Arts. We're planning a silent auction this year\, with an exhibition in person AND online. Bidding opens on November 15th and closes December 10th with new items added each week. Stop by the center during regular business hours to view the show in person\, or check it out from the comfort of your home. Stay tuned for featured artists\, hot ticket items\, and more!\n\n\n\nAre you or someone you know an artist\, creator\, or maker? We are accepting donations until November 8th. We are also offering business sponsorships of $50 which will include recognition in our gallery during the in-person show and on our auction website. Contact Molly at director@hutchinsonarts.org for more details. \n\n\n\nThanks for your support in bringing the arts to life in our community!\n\n\n\nGallery Hours:\n\nTuesday-Saturday 10-5\n\n15 Franklin St SW
X-ALT-DESC;FMTTYPE=text/html:We are excited to announce our 2021 Fall Fundraiser for the Hutchinson Center for the Arts. We&#39\;re planning a silent auction this year\, with an exhibition in person AND online. Bidding opens on November 15th and closes December 10th with new items added each week.&nbsp\;Stop by the center during regular business hours to view the show in person\, or check it out from the comfort of your home. Stay tuned for featured artists\, hot ticket items\, and more!<br />\n<br />\nAre you or someone you know an artist\, creator\, or maker? We are accepting donations until November 8th. We are also offering business&nbsp\;sponsorships of $50 which will include recognition in our gallery during the in-person show and on our auction website.&nbsp\;Contact Molly at director@hutchinsonarts.org for more details.&nbsp\;<br />\n<br />\nThanks for your support in bringing the arts to life in our community!<br />\n<br />\nGallery Hours:<br />\nTuesday-Saturday 10-5<br />\n15 Franklin St SW
LOCATION:
UID:e.42.30349
SEQUENCE:3
DTSTAMP:20260424T235403Z
URL:https://business.explorehutchinson.com/events/details/hutchinson-center-for-the-arts-fall-fundraiser-30349
END:VEVENT

END:VCALENDAR
