BEGIN:VCALENDAR
VERSION:2.0
PRODID:-//ChamberMaster//Event Calendar 2.0//EN
METHOD:PUBLISH
X-PUBLISHED-TTL:P3D
REFRESH-INTERVAL:P3D
CALSCALE:GREGORIAN
BEGIN:VEVENT
DTSTART:20230223T230000Z
DTEND:20230224T020000Z
X-MICROSOFT-CDO-ALLDAYEVENT:FALSE
SUMMARY:Hutchinson Chamber Annual Event & Community Awards
DESCRIPTION:There's "snow" place like home and whats better than celebrating the community that brings us all together!\n\n \n\nDate and Time\n\nThursday Feb 23\, 2023\n\n5:00 PM - 8:00 PM CST\n\n\nRegistration and Social hour will begin at 5:00pm SHARP\n\n\n\nDinner\, Program & Awards will begin at 6:00pm\n\n\n\nHelp us Celebrate our Community Award winners during this fun event!\n\n\n\n\nLocation\n\nCrow River Golf Club\n\n915 Colorado St NW\n\nHutchinson\, MN 55350\n\n \n\n\n\nFees/Admission\n\n$50 per person \n\n\n\nTo Register online please visit:\n\nhttps://explorehutchinson.com/hutchinson-chamber-annual-event-awards/
X-ALT-DESC;FMTTYPE=text/html:There&#39\;s &quot\;snow&quot\; place like home and whats better than celebrating the community that brings us all together!<br />\n&nbsp\;\n<div class="col-sm-12 gz-event-date" style="box-sizing: border-box\; position: relative\; width: 337.988px\; min-height: 1px\; padding-right: 15px\; padding-left: 15px\; flex: 0 0 100%\; max-width: 100%\; outline: 0px\; color: rgb(62\, 63\, 63)\; font-family: Overpass\, Arial\, Helvetica\, sans-serif\; font-size: 18px\; font-weight: 700\;">\n<h5 class="gz-subtitle" style="box-sizing: border-box\; margin: 0.5rem 0px\; line-height: 1.25\; font-size: var(--h5-font-size)\; color: var(--h5-font-color)\;">Date and Time</h5>\n\n<p style="box-sizing: border-box\; margin: 0px 0px 1rem\; font-size: 1.125rem\; line-height: 1.7\; padding: 0px\; outline: 0px\;"><span content="2023-02-23T23:00:00Z" itemprop="startDate" style="box-sizing: border-box\; outline: 0px\;">Thursday Feb 23\, 2023</span><br style="box-sizing: border-box\;" />\n<span class="gz-details-time" style="box-sizing: border-box\;">5:00 PM - 8:00 PM CST</span></p>\n\n<div class="gz-details-hours" style="box-sizing: border-box\;">\n<p style="box-sizing: border-box\; margin: 0px 0px 1rem\; font-size: 1.125rem\; line-height: 1.7\; padding: 0px\;">Registration and Social hour will begin at 5:00pm SHARP<br style="box-sizing: border-box\;" />\n<br style="box-sizing: border-box\;" />\nDinner\, Program &amp\; Awards will begin at 6:00pm<br style="box-sizing: border-box\;" />\n<br style="box-sizing: border-box\;" />\nHelp us Celebrate our Community Award winners during this fun event!</p>\n</div>\n</div>\n\n<div class="col-sm-12 gz-event-location" itemprop="location" itemscope="" itemtype="http://schema.org/Place" style="box-sizing: border-box\; position: relative\; width: 337.988px\; min-height: 1px\; padding-right: 15px\; padding-left: 15px\; flex: 0 0 100%\; max-width: 100%\; color: rgb(62\, 63\, 63)\; font-family: Overpass\, Arial\, Helvetica\, sans-serif\; font-size: 18px\; font-weight: 700\;">\n<h5 class="gz-subtitle" style="box-sizing: border-box\; margin: 0.5rem 0px\; line-height: 1.25\; font-size: var(--h5-font-size)\; color: var(--h5-font-color)\;">Location</h5>\n\n<p style="box-sizing: border-box\; margin: 0px 0px 1rem\; font-size: 1.125rem\; line-height: 1.7\; padding: 0px\;"><span itemprop="name" style="box-sizing: border-box\;">Crow River Golf Club<br style="box-sizing: border-box\;" />\n915 Colorado St NW<br style="box-sizing: border-box\;" />\nHutchinson\, MN 55350<br style="box-sizing: border-box\;" />\n&nbsp\;</span></p>\n</div>\n\n<div class="col-sm-12 gz-event-fees" style="box-sizing: border-box\; position: relative\; width: 337.988px\; min-height: 1px\; padding-right: 15px\; padding-left: 15px\; flex: 0 0 100%\; max-width: 100%\; color: rgb(62\, 63\, 63)\; font-family: Overpass\, Arial\, Helvetica\, sans-serif\; font-size: 18px\; font-weight: 700\;">\n<h5 class="gz-subtitle" style="box-sizing: border-box\; margin: 0.5rem 0px\; line-height: 1.25\; font-size: var(--h5-font-size)\; color: var(--h5-font-color)\;">Fees/Admission</h5>\n\n<p style="box-sizing: border-box\; margin: 0px 0px 1rem\; font-size: 1.125rem\; line-height: 1.7\; padding: 0px\;"><span class="gz-event-fees" style="box-sizing: border-box\;">$50 per person&nbsp\;<br />\n<br />\nTo Register online please visit:</span><br />\n<a href="https://explorehutchinson.com/hutchinson-chamber-annual-event-awards/" itemprop="url" style="box-sizing: border-box\; text-decoration-line: none\; background-image: initial\; background-position: initial\; background-size: initial\; background-repeat: initial\; background-attachment: initial\; background-origin: initial\; background-clip: initial\; transition: all 0.5s ease 0s\; color: rgb(67\, 131\, 31)\; font-weight: 600\; cursor: pointer\; overflow-wrap: break-word\; font-family: Overpass\, Arial\, Helvetica\, sans-serif\; font-size: 18px\;" target="_blank">https://explorehutchinson.com/hutchinson-chamber-annual-event-awards/</a></p>\n</div>\n
LOCATION:Crow River Golf Club 915 Colorado St NW Hutchinson\, MN 55350
UID:e.42.33659
SEQUENCE:3
DTSTAMP:20260425T220012Z
URL:https://business.explorehutchinson.com/events/details/hutchinson-chamber-annual-event-community-awards-33659
END:VEVENT

END:VCALENDAR
