BEGIN:VCALENDAR
VERSION:2.0
PRODID:-//ChamberMaster//Event Calendar 2.0//EN
METHOD:PUBLISH
X-PUBLISHED-TTL:P3D
REFRESH-INTERVAL:P3D
CALSCALE:GREGORIAN
BEGIN:VEVENT
DTSTART:20230614T220000Z
DTEND:20230614T233000Z
X-MICROSOFT-CDO-ALLDAYEVENT:FALSE
SUMMARY:HUTCHINSON ELKS # 2427 FLAG DAY
DESCRIPTION:ELKS NATIONAL FLAG DAY CEREMONY AT THE McLEOD CTY VETS PARK-HUTCHINSON MN ALSO FOLLOWING : SCOUTS WILL HAVE A BURNING OF THE FLAG CEREMONY LIGHT MEAL TO FOLLOW
X-ALT-DESC;FMTTYPE=text/html:ELKS NATIONAL FLAG DAY CEREMONY AT THE McLEOD CTY VETS PARK-HUTCHINSON MN ALSO FOLLOWING : SCOUTS WILL HAVE A BURNING OF THE FLAG CEREMONY LIGHT MEAL TO FOLLOW
LOCATION:MCLEOD COUNTY VETERANS PARK HUTCHINSON MN [ACROSS FROM NEW COP SHOP]
UID:e.42.34883
SEQUENCE:3
DTSTAMP:20260426T035403Z
URL:https://business.explorehutchinson.com/events/details/hutchinson-elks-2427-flag-day-34883
END:VEVENT

END:VCALENDAR
