BEGIN:VCALENDAR
VERSION:2.0
PRODID:-//ChamberMaster//Event Calendar 2.0//EN
METHOD:PUBLISH
X-PUBLISHED-TTL:P3D
REFRESH-INTERVAL:P3D
CALSCALE:GREGORIAN
BEGIN:VEVENT
DTSTART:20260307T160000Z
DTEND:20260307T190000Z
X-MICROSOFT-CDO-ALLDAYEVENT:FALSE
SUMMARY:Hutchinson Farmers Market - At Fairgrounds
DESCRIPTION:Join us for a winter farmers market! You can find us inside the Century Building at McLeod County Fairgrounds. There will be many different local vendors with a variety of products including\, jams/jellies\, pickles\, bread\, dessert\, handmade crafts\, and more!
X-ALT-DESC;FMTTYPE=text/html:Join us for a winter farmers market! You can find us inside the Century Building at McLeod County Fairgrounds. There will be many different local vendors with a variety of products including\, jams/jellies\, pickles\, bread\, dessert\, handmade crafts\, and more!
LOCATION:Inside Century Building on the Fairgrounds
UID:e.42.38797
SEQUENCE:3
DTSTAMP:20260421T151331Z
URL:https://business.explorehutchinson.com/events/details/hutchinson-farmers-market-at-fairgrounds-38797
END:VEVENT

END:VCALENDAR
