BEGIN:VCALENDAR
VERSION:2.0
PRODID:-//ChamberMaster//Event Calendar 2.0//EN
METHOD:PUBLISH
X-PUBLISHED-TTL:P3D
REFRESH-INTERVAL:P3D
CALSCALE:GREGORIAN
BEGIN:VEVENT
DTSTART:20230326T140000Z
DTEND:20230326T173000Z
X-MICROSOFT-CDO-ALLDAYEVENT:FALSE
SUMMARY:Hutchinson Jr League Baseball Association Pancake Breakfast Fundraiser
DESCRIPTION:The Hutchinson Jr League Baseball Association is sponsoring Pancake Breakfast Fundraiser
X-ALT-DESC;FMTTYPE=text/html:<br />\n<span style="font-size:14px\;"><span style="font-family:arial\;">The Hutchinson Jr League Baseball Association is sponsoring&nbsp\;<span background-color:="" font-size:="" style="color: rgb(51\, 51\, 51)\; font-family: sans-serif\, Arial\, Verdana\, " trebuchet="">Pancake Breakfast Fundraiser&nbsp\;</span></span></span><br />\n&nbsp\;
LOCATION:Hutchinson Elks Lodge #2447 // 720 Hwy 7 East
UID:e.42.34454
SEQUENCE:3
DTSTAMP:20260419T144805Z
URL:https://business.explorehutchinson.com/events/details/hutchinson-jr-league-baseball-association-pancake-breakfast-fundraiser-34454
END:VEVENT

END:VCALENDAR
