BEGIN:VCALENDAR
VERSION:2.0
PRODID:-//ChamberMaster//Event Calendar 2.0//EN
METHOD:PUBLISH
X-PUBLISHED-TTL:P3D
REFRESH-INTERVAL:P3D
CALSCALE:GREGORIAN
BEGIN:VEVENT
DTSTART:20260508T130000Z
DTEND:20260509T220000Z
X-MICROSOFT-CDO-ALLDAYEVENT:FALSE
SUMMARY:Hutchinson Lions rummage sale
DESCRIPTION:Hutchinson Lions Rummage sale Priced and "Fill-A-Bag" Hotdogs and concessions available Donations accepted on May 6-7 Many new and unused or lightly used items. Lots of seasonal items for all holidays.
X-ALT-DESC;FMTTYPE=text/html:Hutchinson Lions Rummage sale Priced and &ldquo\;Fill-A-Bag&rdquo\; Hotdogs and concessions available Donations accepted on May 6-7 Many new and unused or lightly used items. Lots of seasonal items for all holidays.
LOCATION:Lake Marion ballroom 11431 MN-15\, Brownton\, MN 55312
UID:e.42.41564
SEQUENCE:3
DTSTAMP:20260421T164939Z
URL:https://business.explorehutchinson.com/events/details/hutchinson-lions-rummage-sale-41564
END:VEVENT

END:VCALENDAR
