BEGIN:VCALENDAR
VERSION:2.0
PRODID:-//ChamberMaster//Event Calendar 2.0//EN
METHOD:PUBLISH
X-PUBLISHED-TTL:P3D
REFRESH-INTERVAL:P3D
CALSCALE:GREGORIAN
BEGIN:VEVENT
DTSTART:20230627T200000Z
DTEND:20230628T000000Z
X-MICROSOFT-CDO-ALLDAYEVENT:FALSE
SUMMARY:Hutchinson Police Station Open House & Ribbon Cutting
DESCRIPTION:Join us to celebrate the opening of the new Police Station\, and tour the new building.
X-ALT-DESC;FMTTYPE=text/html:Join us to celebrate the opening of the new Police Station\, and tour the new building.
LOCATION:
UID:e.42.34897
SEQUENCE:3
DTSTAMP:20260426T035819Z
URL:https://business.explorehutchinson.com/events/details/hutchinson-police-station-open-house-ribbon-cutting-34897
END:VEVENT

END:VCALENDAR
