BEGIN:VCALENDAR
VERSION:2.0
PRODID:-//ChamberMaster//Event Calendar 2.0//EN
METHOD:PUBLISH
X-PUBLISHED-TTL:P3D
REFRESH-INTERVAL:P3D
CALSCALE:GREGORIAN
BEGIN:VEVENT
DTSTART:20230629T140000Z
DTEND:20230630T000000Z
X-MICROSOFT-CDO-ALLDAYEVENT:FALSE
SUMMARY:Hutchinson Police Station Tours
DESCRIPTION:Tour the New police Station from 9am-12pm 1pm-7pm
X-ALT-DESC;FMTTYPE=text/html:Tour the New police Station from 9am-12pm 1pm-7pm
LOCATION:
UID:e.42.34898
SEQUENCE:3
DTSTAMP:20260426T035705Z
URL:https://business.explorehutchinson.com/events/details/hutchinson-police-station-tours-34898
END:VEVENT

END:VCALENDAR
