BEGIN:VCALENDAR
VERSION:2.0
PRODID:-//ChamberMaster//Event Calendar 2.0//EN
METHOD:PUBLISH
X-PUBLISHED-TTL:P3D
REFRESH-INTERVAL:P3D
CALSCALE:GREGORIAN
BEGIN:VEVENT
DTSTART:20230211T233000Z
DTEND:20230212T023000Z
X-MICROSOFT-CDO-ALLDAYEVENT:FALSE
SUMMARY:Hutchinson Theatre Company 20th Anniversary Gala
DESCRIPTION:Join us to solve an interactive murder mystery set in the Roaring 20s. Come out for a night of fun and food! Live performances commemorating past productions\, raffle prizes\, and Flank Steakhouse serving heavy appetizers & signature drinks. HTC will also announce its 2023 Productions.\n\n$75 ticket
X-ALT-DESC;FMTTYPE=text/html:<p>Join us to solve an interactive murder mystery set in the Roaring 20s. Come out for a night of fun and food! Live performances commemorating past productions\, raffle prizes\, and Flank Steakhouse serving heavy appetizers &amp\; signature drinks. HTC will also announce its 2023 Productions.</p>\n\n<p>$75 ticket</p>\n
LOCATION:Art's Place 35 1st Ave SW
UID:e.42.33372
SEQUENCE:3
DTSTAMP:20260425T220119Z
URL:https://business.explorehutchinson.com/events/details/hutchinson-theatre-company-20th-anniversary-gala-33372
END:VEVENT

END:VCALENDAR
