BEGIN:VCALENDAR
VERSION:2.0
PRODID:-//ChamberMaster//Event Calendar 2.0//EN
METHOD:PUBLISH
X-PUBLISHED-TTL:P3D
REFRESH-INTERVAL:P3D
CALSCALE:GREGORIAN
BEGIN:VEVENT
DTSTART:20230618T130000Z
DTEND:20230618T170000Z
X-MICROSOFT-CDO-ALLDAYEVENT:FALSE
SUMMARY:J C Water Carnival Pancake Breakfast
DESCRIPTION:Pancake Breakfast served by the Hutchinson Civil Air Patrol.\n\nCost: Adults: (12+) - $9.00 Children 0-5 and Pilots-In-Command are FREE! Tickets are available at the door or from all Hutchinson Civil Air Patrol Members\n\n\n\nFor more information call: 320-587-2358 or 612-723-8598\n\n\n\nAlso featuring: Classic Car Show and Shine 9:00 am - 1:00 pm Sponsored by the Saturday Night Cruisers Car Club of Hutchinson
X-ALT-DESC;FMTTYPE=text/html:Pancake Breakfast served by the Hutchinson Civil Air Patrol.<br />\nCost: Adults: (12+) - $9.00 Children 0-5 and Pilots-In-Command are FREE! Tickets are available at the door or from all Hutchinson Civil Air Patrol Members<br />\n<br />\nFor more information call: 320-587-2358 or 612-723-8598<br />\n<br />\nAlso featuring: Classic Car Show and Shine 9:00 am - 1:00 pm Sponsored by the Saturday Night Cruisers Car Club of Hutchinson
LOCATION:Hutchinson MN Airport
UID:e.42.34785
SEQUENCE:3
DTSTAMP:20260426T035348Z
URL:https://business.explorehutchinson.com/events/details/j-c-water-carnival-pancake-breakfast-34785
END:VEVENT

END:VCALENDAR
