BEGIN:VCALENDAR
VERSION:2.0
PRODID:-//ChamberMaster//Event Calendar 2.0//EN
METHOD:PUBLISH
X-PUBLISHED-TTL:P3D
REFRESH-INTERVAL:P3D
CALSCALE:GREGORIAN
BEGIN:VEVENT
DTSTART:20230428T210000Z
DTEND:20230428T230000Z
X-MICROSOFT-CDO-ALLDAYEVENT:FALSE
SUMMARY:Jaycees Flower Sales
DESCRIPTION:Flower Sales pick up
X-ALT-DESC;FMTTYPE=text/html:Flower Sales pick up
LOCATION:Northwoods Park Shelter
UID:e.42.34530
SEQUENCE:3
DTSTAMP:20260426T005702Z
URL:https://business.explorehutchinson.com/events/details/jaycees-flower-sales-04-28-2023-34530
END:VEVENT

END:VCALENDAR
