BEGIN:VCALENDAR
VERSION:2.0
PRODID:-//ChamberMaster//Event Calendar 2.0//EN
METHOD:PUBLISH
X-PUBLISHED-TTL:P3D
REFRESH-INTERVAL:P3D
CALSCALE:GREGORIAN
BEGIN:VEVENT
DTSTART:20230325T140000Z
DTEND:20230325T170000Z
X-MICROSOFT-CDO-ALLDAYEVENT:FALSE
SUMMARY:King's Kids Preschool Open House and Fall 2023 Registration
DESCRIPTION:Fall Registration for 2023-2024 school year AND open house.
X-ALT-DESC;FMTTYPE=text/html:Fall Registration for 2023-2024 school year AND open house.
LOCATION:Preschool rooms & preschool office. Located at Christ the King Lutheran Church. 1040 South Grade Rd. SW Hutchinson\, MN
UID:e.42.34303
SEQUENCE:3
DTSTAMP:20260419T162355Z
URL:https://business.explorehutchinson.com/events/details/king-s-kids-preschool-open-house-and-fall-2023-registration-34303
END:VEVENT

END:VCALENDAR
