BEGIN:VCALENDAR
VERSION:2.0
PRODID:-//ChamberMaster//Event Calendar 2.0//EN
METHOD:PUBLISH
X-PUBLISHED-TTL:P3D
REFRESH-INTERVAL:P3D
CALSCALE:GREGORIAN
BEGIN:VEVENT
DTSTART:20230224T173000Z
DTEND:20230225T000000Z
X-MICROSOFT-CDO-ALLDAYEVENT:FALSE
SUMMARY:Knights of Columbus 36th Annual Fish Fry
DESCRIPTION:Knight of Columbus\, Hutchinson Council 4797\, 36th annual Fish Fry at the McLeod County Fair Grounds Friday Feb. 24th\, 2023 11:30am to 6:00pm or until fish is gone Dine-in\, Delivery\, or Take out Alaskan Pollock\, Baked Potato\, Cole Slaw\, Baked Beans\, Bread\, Cookie\, Water/Milk/Coffee For Deliveries call 320-583-8086 or 320-894-5352 (on Feb 24th only)
X-ALT-DESC;FMTTYPE=text/html:Knight of Columbus\, Hutchinson Council 4797\, 36th annual Fish Fry at the McLeod County Fair Grounds Friday Feb. 24th\, 2023 11:30am to 6:00pm or until fish is gone Dine-in\, Delivery\, or Take out Alaskan Pollock\, Baked Potato\, Cole Slaw\, Baked Beans\, Bread\, Cookie\, Water/Milk/Coffee For Deliveries call 320-583-8086 or 320-894-5352 (on Feb 24th only)
LOCATION:McLeod County Fair Grounds
UID:e.42.33615
SEQUENCE:3
DTSTAMP:20260425T220345Z
URL:https://business.explorehutchinson.com/events/details/knights-of-columbus-36th-annual-fish-fry-33615
END:VEVENT

END:VCALENDAR
