BEGIN:VCALENDAR
VERSION:2.0
PRODID:-//ChamberMaster//Event Calendar 2.0//EN
METHOD:PUBLISH
X-PUBLISHED-TTL:P3D
REFRESH-INTERVAL:P3D
CALSCALE:GREGORIAN
BEGIN:VEVENT
DTSTART:20260131T000000Z
DTEND:20260131T020000Z
X-MICROSOFT-CDO-ALLDAYEVENT:FALSE
SUMMARY:Line Dancing Lessons
DESCRIPTION:Come learn Line Dances with us\, or just come to watch and enjoy the music! Dance instructor - Kristi Lilleberg-Barber will teach versions of popular line dances. We'll play Two-Step\, Swing Dance and Line Dance songs by request.
X-ALT-DESC;FMTTYPE=text/html:Come learn Line Dances with us\, or just come to watch and enjoy the music! Dance instructor - Kristi Lilleberg-Barber will teach versions of popular line dances. We&rsquo\;ll play Two-Step\, Swing Dance and Line Dance songs by request.
LOCATION:Crow River Winery
UID:e.42.37850
SEQUENCE:3
DTSTAMP:20260421T114811Z
URL:https://business.explorehutchinson.com/events/details/line-dancing-lessons-37850
END:VEVENT

END:VCALENDAR
