BEGIN:VCALENDAR
VERSION:2.0
PRODID:-//ChamberMaster//Event Calendar 2.0//EN
METHOD:PUBLISH
X-PUBLISHED-TTL:P3D
REFRESH-INTERVAL:P3D
CALSCALE:GREGORIAN
BEGIN:VEVENT
DTSTART:20221216T010000Z
DTEND:20221216T020000Z
X-MICROSOFT-CDO-ALLDAYEVENT:FALSE
SUMMARY:Litchfield Area Male Chorus Winter Concert
DESCRIPTION:The Litchfield Area Male Chorus is presenting a winter concert.  There are two opportunities for people to attend: Thursday\, December 15\, 7:00 pm at Litchfield Christian Church (312 N Marshall Ave\, Litchfield) and Friday\, December 16\, 7:00 pm at St. John's Lutheran Church in rural Cedar Mills (60929 110th St\, Hutchinson).
X-ALT-DESC;FMTTYPE=text/html:The Litchfield Area Male Chorus is presenting a winter concert.&nbsp\; There are two opportunities for people to attend: Thursday\, December 15\, 7:00 pm at Litchfield Christian Church (312 N Marshall Ave\, Litchfield) and Friday\, December 16\, 7:00 pm at St. John&#39\;s Lutheran Church in rural Cedar Mills (60929 110th&nbsp\;St\, Hutchinson).&nbsp\;&nbsp\;
LOCATION:Litchfield Christian Church 312 N Marshall Ave Litchfield\, MN 55355
UID:e.42.33379
SEQUENCE:3
DTSTAMP:20260425T185802Z
URL:https://business.explorehutchinson.com/events/details/litchfield-area-male-chorus-winter-concert-33379
END:VEVENT

END:VCALENDAR
