BEGIN:VCALENDAR
VERSION:2.0
PRODID:-//ChamberMaster//Event Calendar 2.0//EN
METHOD:PUBLISH
X-PUBLISHED-TTL:P3D
REFRESH-INTERVAL:P3D
CALSCALE:GREGORIAN
BEGIN:VEVENT
DTSTART:20230305T010000Z
DTEND:20230305T020000Z
X-MICROSOFT-CDO-ALLDAYEVENT:FALSE
SUMMARY:March Forth with No Lines
DESCRIPTION:Join local improv group No Lines for a night of laughter. Bring a friend - or two!
X-ALT-DESC;FMTTYPE=text/html:Join local improv group No Lines for a night of laughter. Bring a friend - or two!
LOCATION:Hutchinson Center for the Arts 15 Franklin St SW
UID:e.42.33649
SEQUENCE:3
DTSTAMP:20260419T161721Z
URL:https://business.explorehutchinson.com/events/details/march-forth-with-no-lines-33649
END:VEVENT

END:VCALENDAR
