BEGIN:VCALENDAR
VERSION:2.0
PRODID:-//ChamberMaster//Event Calendar 2.0//EN
METHOD:PUBLISH
X-PUBLISHED-TTL:P3D
REFRESH-INTERVAL:P3D
CALSCALE:GREGORIAN
BEGIN:VEVENT
DTSTART:20230311T220000Z
DTEND:20230312T040000Z
X-MICROSOFT-CDO-ALLDAYEVENT:FALSE
SUMMARY:McLeod County Pheasants Forever Banquet
DESCRIPTION:Our annual fundraising banquet will once again be happening on March 11\, 2023 at the commercial building on the McLeod County Fairgrounds. We are expecting another great year of silent auction\, live auction\, raffles\, kid zone\, and many other fun and exciting opportunities for local residents to support Pheasants Forever. Thank you for supporting our PF chapter! Our committee decides how 100% of all the funds we raise are used to best benefit the local habitat.
X-ALT-DESC;FMTTYPE=text/html:Our annual fundraising banquet will once again be happening on March 11\, 2023 at the commercial building on the McLeod County Fairgrounds. We are expecting another great year of silent auction\, live auction\, raffles\, kid zone\, and many other fun and exciting opportunities for local residents to support Pheasants Forever. Thank you for supporting our PF chapter! Our committee decides how 100% of all the funds we raise are used to best benefit the local habitat.
LOCATION:McLeod County Fairgrounds
UID:e.42.34444
SEQUENCE:3
DTSTAMP:20260419T162156Z
URL:https://business.explorehutchinson.com/events/details/mcleod-county-pheasants-forever-banquet-03-11-2023-34444
END:VEVENT

END:VCALENDAR
