BEGIN:VCALENDAR
VERSION:2.0
PRODID:-//ChamberMaster//Event Calendar 2.0//EN
METHOD:PUBLISH
X-PUBLISHED-TTL:P3D
REFRESH-INTERVAL:P3D
CALSCALE:GREGORIAN
BEGIN:VEVENT
DTSTART:20260115T003000Z
DTEND:20260115T013000Z
X-MICROSOFT-CDO-ALLDAYEVENT:FALSE
SUMMARY:Medical Assistant and Phelbotomy Information Session
DESCRIPTION:Medical assistants and phlebotomists are essential members of the healthcare team\, providing vital support to physicians and compassionate care to patients. Programs are available in Willmar and Hutchinson.\n\n\n	Program overview with faculty instructors\n	Learn about admissions\, financial aid and the North Star Promise program (free tuition)\n\n\nReserve your spot\n\n\n	Call 320-222-5971\n	Register online
X-ALT-DESC;FMTTYPE=text/html:<p>Medical assistants and phlebotomists are essential members of the healthcare team\, providing vital support to physicians and compassionate care to patients. Programs are available in Willmar and Hutchinson.</p>\n\n<ul>\n	<li>Program overview with faculty instructors</li>\n	<li>Learn about admissions\, financial aid and the North Star Promise program (free tuition)</li>\n</ul>\n\n<h3>Reserve your spot</h3>\n\n<ul>\n	<li>Call&nbsp\;<a href="tel:3202225971" style="color: rgb(181\, 9\, 56)\; box-sizing: border-box\; text-decoration-line: none\; background-color: transparent\; font-weight: 700\;">320-222-5971</a></li>\n	<li><a href="https://admissions.ridgewater.edu/register/ma_phleb_01142026" rel="noopener" style="color: rgb(181\, 9\, 56)\; box-sizing: border-box\; text-decoration-line: none\; background-color: transparent\; font-weight: 700\;" target="_blank">Register online</a></li>\n</ul>\n
LOCATION:Virtual on Zoom
UID:e.42.37860
SEQUENCE:3
DTSTAMP:20260421T115335Z
URL:https://business.explorehutchinson.com/events/details/medical-assistant-and-phelbotomy-information-session-37860
END:VEVENT

END:VCALENDAR
