BEGIN:VCALENDAR
VERSION:2.0
PRODID:-//ChamberMaster//Event Calendar 2.0//EN
METHOD:PUBLISH
X-PUBLISHED-TTL:P3D
REFRESH-INTERVAL:P3D
CALSCALE:GREGORIAN
BEGIN:VEVENT
DTSTART:20230529T143000Z
DTEND:20230529T160000Z
X-MICROSOFT-CDO-ALLDAYEVENT:FALSE
SUMMARY:Memorial Day Program
DESCRIPTION:The Hutchinson Memorial Day Parade will start at 0930 at Faith Lutheran Church. The program will start at 1000am at the McLeod County Veteran's Park.
X-ALT-DESC;FMTTYPE=text/html:The Hutchinson Memorial Day Parade will start at 0930 at Faith Lutheran Church. The program will start at 1000am at the McLeod County Veteran&rsquo\;s Park.
LOCATION:Parade starts at Faith Lutheran\, program starts at 10:00am at McLeod County Veteran's Park. The route will begin at Faith Lutheran and follow Hassan Street to Veteran's Park.
UID:e.42.34847
SEQUENCE:3
DTSTAMP:20260426T035226Z
URL:https://business.explorehutchinson.com/events/details/memorial-day-program-05-29-2023-34847
END:VEVENT

END:VCALENDAR
